BEGIN:VCALENDAR
VERSION:2.0
PRODID:-//esterhazy - ECPv6.15.17//NONSGML v1.0//EN
CALSCALE:GREGORIAN
METHOD:PUBLISH
X-WR-CALNAME:esterhazy
X-ORIGINAL-URL:https://esterhazyenekegyuttes.hu
X-WR-CALDESC:Events for esterhazy
REFRESH-INTERVAL;VALUE=DURATION:PT1H
X-Robots-Tag:noindex
X-PUBLISHED-TTL:PT1H
BEGIN:VTIMEZONE
TZID:Europe/Budapest
BEGIN:DAYLIGHT
TZOFFSETFROM:+0100
TZOFFSETTO:+0200
TZNAME:CEST
DTSTART:20250330T010000
END:DAYLIGHT
BEGIN:STANDARD
TZOFFSETFROM:+0200
TZOFFSETTO:+0100
TZNAME:CET
DTSTART:20251026T010000
END:STANDARD
BEGIN:DAYLIGHT
TZOFFSETFROM:+0100
TZOFFSETTO:+0200
TZNAME:CEST
DTSTART:20260329T010000
END:DAYLIGHT
BEGIN:STANDARD
TZOFFSETFROM:+0200
TZOFFSETTO:+0100
TZNAME:CET
DTSTART:20261025T010000
END:STANDARD
BEGIN:DAYLIGHT
TZOFFSETFROM:+0100
TZOFFSETTO:+0200
TZNAME:CEST
DTSTART:20270328T010000
END:DAYLIGHT
BEGIN:STANDARD
TZOFFSETFROM:+0200
TZOFFSETTO:+0100
TZNAME:CET
DTSTART:20271031T010000
END:STANDARD
END:VTIMEZONE
BEGIN:VEVENT
DTSTART;TZID=Europe/Budapest:20260502T170000
DTEND;TZID=Europe/Budapest:20260502T190000
DTSTAMP:20260421T101147
CREATED:20260225T202532Z
LAST-MODIFIED:20260225T202532Z
UID:262-1777741200-1777748400@esterhazyenekegyuttes.hu
SUMMARY:Esterházy 30 - Könnyűzenei koncert
DESCRIPTION:
URL:https://esterhazyenekegyuttes.hu/event/esterhazy-30-konnyuzenei-koncert/
LOCATION:Esterházy Pezsgőgyár\, Baji út 53\, Tata\, 2890\, Hungary
END:VEVENT
BEGIN:VEVENT
DTSTART;TZID=Europe/Budapest:20260503T100000
DTEND;TZID=Europe/Budapest:20260503T120000
DTSTAMP:20260421T101147
CREATED:20260225T203646Z
LAST-MODIFIED:20260322T090657Z
UID:269-1777802400-1777809600@esterhazyenekegyuttes.hu
SUMMARY:Esterházy 30 - Menner mise
DESCRIPTION:
URL:https://esterhazyenekegyuttes.hu/event/esterhazy-30-komolyzenei-koncert/
LOCATION:Szent Kereszt Plébániatemplom\, Kossuth tér 15\, Tata\, 2890\, Hungary
END:VEVENT
END:VCALENDAR